BEGIN:VCALENDAR
VERSION:2.0
PRODID:spatie/icalendar-generator
DESCRIPTION:Events from The Idahoan
X-WR-CALDESC:Events from The Idahoan
REFRESH-INTERVAL;VALUE=DURATION:PT1440M
X-PUBLISHED-TTL:PT1440M
BEGIN:VTIMEZONE
TZID:America/Boise
BEGIN:STANDARD
DTSTART:20251102T020000Z
TZOFFSETFROM:-0600
TZOFFSETTO:-0700
END:STANDARD
BEGIN:DAYLIGHT
DTSTART:20260308T020000Z
TZOFFSETFROM:-0700
TZOFFSETTO:-0600
END:DAYLIGHT
BEGIN:STANDARD
DTSTART:20261101T020000Z
TZOFFSETFROM:-0600
TZOFFSETTO:-0700
END:STANDARD
END:VTIMEZONE
BEGIN:VTIMEZONE
TZID:UTC
BEGIN:STANDARD
DTSTART:20250727T011447Z
TZOFFSETFROM:+0000
TZOFFSETTO:+0000
END:STANDARD
END:VTIMEZONE
BEGIN:VEVENT
UID:303-161
DTSTAMP:20260423T011447Z
SUMMARY:Live From The Corona Lounge on Raverholics Radio
LOCATION:
ORGANIZER;CN=The Idahoan:MAILTO:theidahoan@protonmail.com
RRULE:FREQ=MONTHLY;BYDAY=1WE;UNTIL=20270106T000000Z
DTSTART;TZID=America/Boise:20260506T060000
DTEND;TZID=America/Boise:20260506T073000
X-ALT-DESC;FMTTYPE=TEXT/HTML:Join me twice a month for Live From The Corona
  Lounge\, my residency show on Raverholics Radio. Every 1st and 3rd Wednes
 day at 6am MT (1pm UK)\, I dig deep into underground and progressive house
  — blending fresh promos\, crate-dug gems\, and originals from artists a
 nd labels across the globe. Where to watch:  Mixcloud: https://www.mixcl
 oud.com/live/theidahoan Raverholics&amp;hellip\;
CATEGORIES:Online Events
URL;VALUE=URI:https://theidahoandj.com/mc-events/live-from-the-corona-loung
 e-on-raverholics-radio/?mc_id=303
METHOD:PUBLISH
END:VEVENT
END:VCALENDAR