BEGIN:VCALENDAR
VERSION:2.0
PRODID:spatie/icalendar-generator
DESCRIPTION:Events from The Idahoan
X-WR-CALDESC:Events from The Idahoan
REFRESH-INTERVAL;VALUE=DURATION:PT1440M
X-PUBLISHED-TTL:PT1440M
BEGIN:VTIMEZONE
TZID:America/Boise
BEGIN:STANDARD
DTSTART:20251102T020000Z
TZOFFSETFROM:-0600
TZOFFSETTO:-0700
END:STANDARD
BEGIN:DAYLIGHT
DTSTART:20260308T020000Z
TZOFFSETFROM:-0700
TZOFFSETTO:-0600
END:DAYLIGHT
BEGIN:STANDARD
DTSTART:20261101T020000Z
TZOFFSETFROM:-0600
TZOFFSETTO:-0700
END:STANDARD
END:VTIMEZONE
BEGIN:VTIMEZONE
TZID:UTC
BEGIN:STANDARD
DTSTART:20250726T215409Z
TZOFFSETFROM:+0000
TZOFFSETTO:+0000
END:STANDARD
END:VTIMEZONE
BEGIN:VEVENT
UID:286-157
DTSTAMP:20260422T215409Z
SUMMARY:House Blend w/ The Idahoan
LOCATION:
ORGANIZER;CN=The Idahoan:MAILTO:theidahoan@protonmail.com
RRULE:FREQ=MONTHLY;BYDAY=2WE;UNTIL=20270113T000000Z
DTSTART;TZID=America/Boise:20260513T060000
DTEND;TZID=America/Boise:20260513T073000
X-ALT-DESC;FMTTYPE=TEXT/HTML:House Blend with The Idahoan is a bi-weekly At
 lantic Progression broadcast built around a café-inspired morning session
  of progressive and melodic house Hosted by The Idahoan\, the show airs ev
 ery 2nd and 4th Wednesday at 6:00 AM MST (1:00 PM UK). The format focuses 
 on gradual energy\, melodic progression\, and long-form mixing designed fo
 r the&amp;hellip\;
CATEGORIES:Online Events
URL;VALUE=URI:https://theidahoandj.com/mc-events/house-blend-w-the-idahoan/
 ?mc_id=286
METHOD:PUBLISH
END:VEVENT
END:VCALENDAR