BEGIN:VCALENDAR
VERSION:2.0
PRODID:spatie/icalendar-generator
DESCRIPTION:Events from The Idahoan
X-WR-CALDESC:Events from The Idahoan
REFRESH-INTERVAL;VALUE=DURATION:PT1440M
X-PUBLISHED-TTL:PT1440M
BEGIN:VTIMEZONE
TZID:America/Boise
BEGIN:STANDARD
DTSTART:20251102T020000Z
TZOFFSETFROM:-0600
TZOFFSETTO:-0700
END:STANDARD
BEGIN:DAYLIGHT
DTSTART:20260308T020000Z
TZOFFSETFROM:-0700
TZOFFSETTO:-0600
END:DAYLIGHT
END:VTIMEZONE
BEGIN:VTIMEZONE
TZID:UTC
BEGIN:STANDARD
DTSTART:20250726T214029Z
TZOFFSETFROM:+0000
TZOFFSETTO:+0000
END:STANDARD
END:VTIMEZONE
BEGIN:VEVENT
UID:340-169
DTSTAMP:20260422T214029Z
SUMMARY:Gem State w/ The Idahoan and Special Guest N.S.Z.
LOCATION:
ORGANIZER;CN=The Idahoan:MAILTO:theidahoan@protonmail.com
DTSTART;TZID=America/Boise:20260403T210000
DTEND;TZID=America/Boise:20260404T010000
X-ALT-DESC;FMTTYPE=TEXT/HTML:<p>N.S.Z joins The Idahoan on Gem State April 
 3\, 2026</p>\n
CATEGORIES:Online Events
URL;VALUE=URI:https://theidahoandj.com/mc-events/gem-state-w-the-idahoan-an
 d-special-guest-n-s-z/
METHOD:PUBLISH
END:VEVENT
END:VCALENDAR