BEGIN:VCALENDAR
VERSION:2.0
PRODID:spatie/icalendar-generator
DESCRIPTION:Events from The Idahoan
X-WR-CALDESC:Events from The Idahoan
REFRESH-INTERVAL;VALUE=DURATION:PT1440M
X-PUBLISHED-TTL:PT1440M
BEGIN:VTIMEZONE
TZID:America/Boise
BEGIN:STANDARD
DTSTART:20251102T020000Z
TZOFFSETFROM:-0600
TZOFFSETTO:-0700
END:STANDARD
BEGIN:DAYLIGHT
DTSTART:20260308T020000Z
TZOFFSETFROM:-0700
TZOFFSETTO:-0600
END:DAYLIGHT
BEGIN:STANDARD
DTSTART:20261101T020000Z
TZOFFSETFROM:-0600
TZOFFSETTO:-0700
END:STANDARD
END:VTIMEZONE
BEGIN:VTIMEZONE
TZID:UTC
BEGIN:STANDARD
DTSTART:20250727T131259Z
TZOFFSETFROM:+0000
TZOFFSETTO:+0000
END:STANDARD
END:VTIMEZONE
BEGIN:VEVENT
UID:335-167
DTSTAMP:20260423T131259Z
SUMMARY:Atlantic Progression Live Stream Event - Elliot Moriarty
LOCATION:
ORGANIZER;CN=The Idahoan:MAILTO:theidahoan@protonmail.com
DTSTART;TZID=America/Boise:20260523T130000
DTEND;TZID=America/Boise:20260523T140000
X-ALT-DESC;FMTTYPE=TEXT/HTML:I will be managing and hosting the Elliot Mori
 arty live stream event on Atlantic Progression.
CATEGORIES:Online Events
URL;VALUE=URI:https://theidahoandj.com/mc-events/atlantic-progression-live-
 stream-event-elliot-moriarty/
METHOD:PUBLISH
END:VEVENT
END:VCALENDAR