BEGIN:VCALENDAR
VERSION:2.0
PRODID:spatie/icalendar-generator
DESCRIPTION:Events from The Idahoan
X-WR-CALDESC:Events from The Idahoan
REFRESH-INTERVAL;VALUE=DURATION:PT1440M
X-PUBLISHED-TTL:PT1440M
BEGIN:VTIMEZONE
TZID:America/Boise
BEGIN:STANDARD
DTSTART:20251102T020000Z
TZOFFSETFROM:-0600
TZOFFSETTO:-0700
END:STANDARD
BEGIN:DAYLIGHT
DTSTART:20260308T020000Z
TZOFFSETFROM:-0700
TZOFFSETTO:-0600
END:DAYLIGHT
BEGIN:STANDARD
DTSTART:20261101T020000Z
TZOFFSETFROM:-0600
TZOFFSETTO:-0700
END:STANDARD
END:VTIMEZONE
BEGIN:VTIMEZONE
TZID:UTC
BEGIN:STANDARD
DTSTART:20250727T112810Z
TZOFFSETFROM:+0000
TZOFFSETTO:+0000
END:STANDARD
END:VTIMEZONE
BEGIN:VEVENT
UID:332-165
DTSTAMP:20260423T112810Z
SUMMARY:Big Murph in Idaho Falls at The Gem w/Chandler P
LOCATION:The Gem 216 1st St  Idaho Falls ID 83401
ORGANIZER;CN=The Idahoan:MAILTO:theidahoan@protonmail.com
DTSTART;TZID=America/Boise:20260521T190000
DTEND;TZID=America/Boise:20260521T235900
X-ALT-DESC;FMTTYPE=TEXT/HTML:Big Murph &amp;amp\; Chandler P live at The Gem—
 high-energy multi-genre\, crowd hype\, and an unforgettable night! ALL AGE
 S WELCOME. I will be DJing for the performers.
CATEGORIES:Live Events
URL;VALUE=URI:https://theidahoandj.com/mc-events/big-murph-in-idaho-falls-a
 t-the-gem-w-chandler-p/
METHOD:PUBLISH
END:VEVENT
END:VCALENDAR