BEGIN:VCALENDAR
VERSION:2.0
PRODID:spatie/icalendar-generator
DESCRIPTION:Events from The Idahoan
X-WR-CALDESC:Events from The Idahoan
REFRESH-INTERVAL;VALUE=DURATION:PT1440M
X-PUBLISHED-TTL:PT1440M
BEGIN:VTIMEZONE
TZID:America/Boise
BEGIN:STANDARD
DTSTART:20251102T020000Z
TZOFFSETFROM:-0600
TZOFFSETTO:-0700
END:STANDARD
BEGIN:DAYLIGHT
DTSTART:20260308T020000Z
TZOFFSETFROM:-0700
TZOFFSETTO:-0600
END:DAYLIGHT
BEGIN:STANDARD
DTSTART:20261101T020000Z
TZOFFSETFROM:-0600
TZOFFSETTO:-0700
END:STANDARD
END:VTIMEZONE
BEGIN:VTIMEZONE
TZID:UTC
BEGIN:STANDARD
DTSTART:20250727T063133Z
TZOFFSETFROM:+0000
TZOFFSETTO:+0000
END:STANDARD
END:VTIMEZONE
BEGIN:VEVENT
UID:330-164
DTSTAMP:20260423T063133Z
SUMMARY:DRK MATTER MAY-HEM (DRKDREAMZ Album Release Event)
LOCATION:The Gem 216 1st St  Idaho Falls ID 83401
ORGANIZER;CN=The Idahoan:MAILTO:theidahoan@protonmail.com
DTSTART;TZID=America/Boise:20260515T190000
DTEND;TZID=America/Boise:20260516T020000
X-ALT-DESC;FMTTYPE=TEXT/HTML:Parsons Entertainment/-/ Sickhouse Productions
 \, Atlantic Progression &amp;amp\; Mobile Eyes Proudly present to you: DRK-MAT
 TER MAY-HEM!! (The DRKDREAMZ Album release party) A Showcase of low end th
 eory\, with some serious talent behind the 1’s and 2’s all night! This
  is controlled chaos\, at its finest\, celebrating the release of DRKDREAM
 Z new album “Sinners”! I will be&amp;hellip\;
CATEGORIES:Live Events
URL;VALUE=URI:https://theidahoandj.com/mc-events/drk-matter-may-hem-drkdrea
 mz-album-release-event/
METHOD:PUBLISH
END:VEVENT
END:VCALENDAR