BEGIN:VCALENDAR
VERSION:2.0
PRODID:spatie/icalendar-generator
DESCRIPTION:Events from The Idahoan
X-WR-CALDESC:Events from The Idahoan
REFRESH-INTERVAL;VALUE=DURATION:PT1440M
X-PUBLISHED-TTL:PT1440M
BEGIN:VTIMEZONE
TZID:America/Boise
BEGIN:STANDARD
DTSTART:20251102T020000Z
TZOFFSETFROM:-0600
TZOFFSETTO:-0700
END:STANDARD
BEGIN:DAYLIGHT
DTSTART:20260308T020000Z
TZOFFSETFROM:-0700
TZOFFSETTO:-0600
END:DAYLIGHT
BEGIN:STANDARD
DTSTART:20261101T020000Z
TZOFFSETFROM:-0600
TZOFFSETTO:-0700
END:STANDARD
END:VTIMEZONE
BEGIN:VTIMEZONE
TZID:UTC
BEGIN:STANDARD
DTSTART:20250727T030157Z
TZOFFSETFROM:+0000
TZOFFSETTO:+0000
END:STANDARD
END:VTIMEZONE
BEGIN:VEVENT
UID:328-163
DTSTAMP:20260423T030157Z
SUMMARY:Rap Gauntlet w/ Woody208 In Idaho Falls at The Gem
LOCATION:The Gem 216 1st St  Idaho Falls ID 83401
ORGANIZER;CN=The Idahoan:MAILTO:theidahoan@protonmail.com
DTSTART;TZID=America/Boise:20260509T180000
DTEND;TZID=America/Boise:20260509T235900
X-ALT-DESC;FMTTYPE=TEXT/HTML:I am providing DJ duties for this local Hip-Ho
 p show featuring Woody 208 with support from: Mr. 208 Cookie Monsta MC Hol
 orhyme Sabo HRCtheReaper The Idahoan (DJ) Tickets are $10 in advance and $
 15 at the door. All ages show bar with ID. More info and Tickets: https://
 thegemvenue.com/event/built-from-broken-album-release-show/
CATEGORIES:Live Events
URL;VALUE=URI:https://theidahoandj.com/mc-events/rap-gauntlet-w-woody208-in
 -idaho-falls-at-the-gem/
METHOD:PUBLISH
END:VEVENT
END:VCALENDAR