BEGIN:VCALENDAR
VERSION:2.0
PRODID:spatie/icalendar-generator
DESCRIPTION:Events from The Idahoan
X-WR-CALDESC:Events from The Idahoan
REFRESH-INTERVAL;VALUE=DURATION:PT1440M
X-PUBLISHED-TTL:PT1440M
BEGIN:VTIMEZONE
TZID:America/Boise
BEGIN:STANDARD
DTSTART:20251102T020000Z
TZOFFSETFROM:-0600
TZOFFSETTO:-0700
END:STANDARD
BEGIN:DAYLIGHT
DTSTART:20260308T020000Z
TZOFFSETFROM:-0700
TZOFFSETTO:-0600
END:DAYLIGHT
END:VTIMEZONE
BEGIN:VTIMEZONE
TZID:UTC
BEGIN:STANDARD
DTSTART:20250726T215121Z
TZOFFSETFROM:+0000
TZOFFSETTO:+0000
END:STANDARD
END:VTIMEZONE
BEGIN:VEVENT
UID:272-156
DTSTAMP:20260422T215121Z
SUMMARY:EDM Night at The Office Bar &amp;amp\; Grill
LOCATION:The Office Bar and Grill 251 E Center St  Pocatello ID 83201
ORGANIZER;CN=The Idahoan:MAILTO:theidahoan@protonmail.com
DTSTART;TZID=America/Boise:20260425T220000
DTEND;TZID=America/Boise:20260426T020000
X-ALT-DESC;FMTTYPE=TEXT/HTML:<p>The Idahoan @ EDM Night at The Office Bar &amp;
 amp\;\; Grill</p>\n
CATEGORIES:Live Events
URL;VALUE=URI:https://theidahoandj.com/mc-events/edm-night-at-the-office-ba
 r-grill/
METHOD:PUBLISH
END:VEVENT
END:VCALENDAR