BEGIN:VCALENDAR
VERSION:2.0
PRODID:spatie/icalendar-generator
DESCRIPTION:Events from The Idahoan
X-WR-CALDESC:Events from The Idahoan
REFRESH-INTERVAL;VALUE=DURATION:PT1440M
X-PUBLISHED-TTL:PT1440M
BEGIN:VTIMEZONE
TZID:America/Boise
BEGIN:STANDARD
DTSTART:20251102T020000Z
TZOFFSETFROM:-0600
TZOFFSETTO:-0700
END:STANDARD
BEGIN:DAYLIGHT
DTSTART:20260308T020000Z
TZOFFSETFROM:-0700
TZOFFSETTO:-0600
END:DAYLIGHT
BEGIN:STANDARD
DTSTART:20261101T020000Z
TZOFFSETFROM:-0600
TZOFFSETTO:-0700
END:STANDARD
END:VTIMEZONE
BEGIN:VTIMEZONE
TZID:UTC
BEGIN:STANDARD
DTSTART:20250727T011740Z
TZOFFSETFROM:+0000
TZOFFSETTO:+0000
END:STANDARD
END:VTIMEZONE
BEGIN:VEVENT
UID:262-154
DTSTAMP:20260423T011740Z
SUMMARY:Open Deck Night at The Heart
LOCATION:The Heart Events 755 S Capital Ave  Idaho Falls Idaho 83401
ORGANIZER;CN=The Idahoan:MAILTO:theidahoan@protonmail.com
RRULE:FREQ=MONTHLY;BYDAY=1TH;UNTIL=20270107T000000Z
DTSTART;TZID=America/Boise:20260507T193000
DTEND;TZID=America/Boise:20260507T203000
X-ALT-DESC;FMTTYPE=TEXT/HTML:Open Deck Night at The Heart is a monthly Atla
 ntic Progression event designed to provide DJs with a consistent opportuni
 ty to play in a club environment while helping build the regional undergro
 und electronic music community. The event takes place on the first Thursda
 y of every month and begins at 7:30 PM. The night runs as&amp;hellip\;
CATEGORIES:Live Events
URL;VALUE=URI:https://theidahoandj.com/mc-events/open-deck-night-at-the-hea
 rt/?mc_id=262
METHOD:PUBLISH
END:VEVENT
END:VCALENDAR